BEGIN:VCALENDAR
VERSION:2.0
PRODID:-//wp-events-plugin.com//7.2.3.1//EN
TZID:America/Los_Angeles
X-WR-TIMEZONE:America/Los_Angeles
BEGIN:VEVENT
UID:73@deltalionsclub.com
DTSTART;TZID=America/Los_Angeles:20301211T070000
DTEND;TZID=America/Los_Angeles:20301211T083000
DTSTAMP:20260112T222804Z
URL:https://deltalionsclub.com/events/monthly-breakfast-meeting-2030-12-11
 /
SUMMARY:Monthly Breakfast Meeting
DESCRIPTION:
CATEGORIES:General Meeting
LOCATION:Bartley Cavanaugh Golf Course\, 8301 Freeport Blvd.\, Sacramento\,
  California\, 95832\, United States
X-APPLE-STRUCTURED-LOCATION;VALUE=URI;X-ADDRESS=8301 Freeport Blvd.\, Sacra
 mento\, California\, 95832\, United States;X-APPLE-RADIUS=100;X-TITLE=Bart
 ley Cavanaugh Golf Course:geo:0,0
END:VEVENT
BEGIN:VTIMEZONE
TZID:America/Los_Angeles
X-LIC-LOCATION:America/Los_Angeles
BEGIN:STANDARD
DTSTART:20301103T010000
TZOFFSETFROM:-0700
TZOFFSETTO:-0800
TZNAME:PST
END:STANDARD
END:VTIMEZONE
END:VCALENDAR